BEGIN:VCALENDAR
VERSION:2.0
PRODID:-//Plone.org//NONSGML plone.app.event//EN
X-WR-TIMEZONE:Europe/Rome
BEGIN:VEVENT
SUMMARY:Top Physics at the Large Hadron Collider: past\, present and persp
 ectives on 13 TeV collisions (I part)
DTSTART;TZID=Europe/Rome;VALUE=DATE-TIME:20150226T140000
DTEND;TZID=Europe/Rome;VALUE=DATE-TIME:20150226T160000
DTSTAMP;VALUE=DATE-TIME:20260419T194044Z
UID:c6042b93a713491ca5d3a8a71229c31f@physics-astronomy.unibo.it
CREATED;VALUE=DATE-TIME:20150224T082808Z
DESCRIPTION:by Dr. Francesco Spano' (Royal Holloway\, University of London
 )
LAST-MODIFIED;VALUE=DATE-TIME:20150224T082815Z
URL:https://physics-astronomy.unibo.it/en/events/top-physics-at-the-large-
 hadron-collider-past-present-and-perspectives-on-13-tev-collisions-i-part
END:VEVENT
BEGIN:VTIMEZONE
TZID:Europe/Rome
X-LIC-LOCATION:Europe/Rome
BEGIN:STANDARD
DTSTART;VALUE=DATE-TIME:20141026T020000
TZNAME:CET
TZOFFSETFROM:+0200
TZOFFSETTO:+0100
END:STANDARD
END:VTIMEZONE
END:VCALENDAR
