BEGIN:VCALENDAR
VERSION:2.0
PRODID:-//Plone.org//NONSGML plone.app.event//EN
X-WR-TIMEZONE:Europe/Rome
BEGIN:VEVENT
SUMMARY:The SECCO survey: searching for very dark galaxies within Ultra Co
 mpact HVCs
DTSTART;TZID=Europe/Rome;VALUE=DATE-TIME:20150212T140000
DTEND;TZID=Europe/Rome;VALUE=DATE-TIME:20150212T153000
DTSTAMP;VALUE=DATE-TIME:20260419T174827Z
UID:a0b6aa004c5d46268217ef4eb203cbce@physics-astronomy.unibo.it
CREATED;VALUE=DATE-TIME:20150209T113225Z
DESCRIPTION:by Michele Bellazzini (INAF\, Osservatorio Astronomico di Bolo
 gna)
LAST-MODIFIED;VALUE=DATE-TIME:20150209T113235Z
URL:https://physics-astronomy.unibo.it/en/events/the-secco-survey-searchin
 g-for-very-dark-galaxies-within-ultra-compact-hvcs
END:VEVENT
BEGIN:VTIMEZONE
TZID:Europe/Rome
X-LIC-LOCATION:Europe/Rome
BEGIN:STANDARD
DTSTART;VALUE=DATE-TIME:20141026T020000
TZNAME:CET
TZOFFSETFROM:+0200
TZOFFSETTO:+0100
END:STANDARD
END:VTIMEZONE
END:VCALENDAR
