BEGIN:VCALENDAR
VERSION:2.0
PRODID:-//Plone.org//NONSGML plone.app.event//EN
X-WR-TIMEZONE:Europe/Rome
BEGIN:VEVENT
SUMMARY:The first ultraviolet quasar stacked spectrum at z~2.4 from WFC3
DTSTART;TZID=Europe/Rome;VALUE=DATE-TIME:20150219T140000
DTEND;TZID=Europe/Rome;VALUE=DATE-TIME:20150219T153000
DTSTAMP;VALUE=DATE-TIME:20260419T192708Z
UID:34bda30d1d03449f80816de55ed7db82@physics-astronomy.unibo.it
CREATED;VALUE=DATE-TIME:20150216T090754Z
DESCRIPTION:by Elisabeta Lusso (INAF\, Osservatorio Astrofisico di Arcetri
 )
LAST-MODIFIED;VALUE=DATE-TIME:20150216T090806Z
URL:https://physics-astronomy.unibo.it/en/events/the-first-ultraviolet-qua
 sar-stacked-spectrum-at-z-2.4-from-wfc3
END:VEVENT
BEGIN:VTIMEZONE
TZID:Europe/Rome
X-LIC-LOCATION:Europe/Rome
BEGIN:STANDARD
DTSTART;VALUE=DATE-TIME:20141026T020000
TZNAME:CET
TZOFFSETFROM:+0200
TZOFFSETTO:+0100
END:STANDARD
END:VTIMEZONE
END:VCALENDAR
