BEGIN:VCALENDAR
VERSION:2.0
PRODID:-//Plone.org//NONSGML plone.app.event//EN
X-WR-TIMEZONE:Europe/Rome
BEGIN:VEVENT
SUMMARY: The cosmic ionising background: from the reionisation era to pres
 ent days
DTSTART;TZID=Europe/Rome;VALUE=DATE-TIME:20150226T140000
DTEND;TZID=Europe/Rome;VALUE=DATE-TIME:20150226T153000
DTSTAMP;VALUE=DATE-TIME:20260419T174827Z
UID:862aa0e8527341f8b4172b76e5c33099@physics-astronomy.unibo.it
CREATED;VALUE=DATE-TIME:20150219T093924Z
DESCRIPTION:by Francesco Haardt(Universita' dell'Insubria) 	
LAST-MODIFIED;VALUE=DATE-TIME:20150219T093934Z
URL:https://physics-astronomy.unibo.it/en/events/the-cosmic-ionising-backg
 round-from-the-reionisation-era-to-present-days
END:VEVENT
BEGIN:VTIMEZONE
TZID:Europe/Rome
X-LIC-LOCATION:Europe/Rome
BEGIN:STANDARD
DTSTART;VALUE=DATE-TIME:20141026T020000
TZNAME:CET
TZOFFSETFROM:+0200
TZOFFSETTO:+0100
END:STANDARD
END:VTIMEZONE
END:VCALENDAR
