BEGIN:VCALENDAR
VERSION:2.0
PRODID:-//Plone.org//NONSGML plone.app.event//EN
X-WR-TIMEZONE:Europe/Rome
BEGIN:VEVENT
SUMMARY:The Cloud Factory: from the microscopic scale to what we can see
DTSTART;TZID=Europe/Rome;VALUE=DATE-TIME:20230302T160000
DTEND;TZID=Europe/Rome;VALUE=DATE-TIME:20230302T173000
DTSTAMP;VALUE=DATE-TIME:20260420T181554Z
UID:622782750cb4425f893d394d19b63f99@physics-astronomy.unibo.it
CREATED;VALUE=DATE-TIME:20230218T095010Z
DESCRIPTION:Clouds' shapes and colors seem to be due only to the whims of 
 wind and sunlight. Do we ever wonder how and why they are formed?
LAST-MODIFIED;VALUE=DATE-TIME:20230218T102842Z
URL:https://physics-astronomy.unibo.it/en/events/the-cloud-factory
END:VEVENT
BEGIN:VTIMEZONE
TZID:Europe/Rome
X-LIC-LOCATION:Europe/Rome
BEGIN:STANDARD
DTSTART;VALUE=DATE-TIME:20221030T020000
TZNAME:CET
TZOFFSETFROM:+0200
TZOFFSETTO:+0100
END:STANDARD
END:VTIMEZONE
END:VCALENDAR
