BEGIN:VCALENDAR
VERSION:2.0
PRODID:-//Plone.org//NONSGML plone.app.event//EN
X-WR-TIMEZONE:Europe/Rome
BEGIN:VEVENT
SUMMARY:Seminari dei futuri Dottori di Ricerca in Fisica
DTSTART;TZID=Europe/Rome;VALUE=DATE-TIME:20150209T090000
DTEND;TZID=Europe/Rome;VALUE=DATE-TIME:20150209T170000
DTSTAMP;VALUE=DATE-TIME:20260419T174912Z
UID:df3844c3ed134ee7a3cadd77cfcdd2d7@physics-astronomy.unibo.it
CREATED;VALUE=DATE-TIME:20150205T090129Z
LAST-MODIFIED;VALUE=DATE-TIME:20150205T090140Z
URL:https://physics-astronomy.unibo.it/en/events/seminari-dei-futuri-dotto
 ri-di-ricerca-in-fisica-1
END:VEVENT
BEGIN:VTIMEZONE
TZID:Europe/Rome
X-LIC-LOCATION:Europe/Rome
BEGIN:STANDARD
DTSTART;VALUE=DATE-TIME:20141026T020000
TZNAME:CET
TZOFFSETFROM:+0200
TZOFFSETTO:+0100
END:STANDARD
END:VTIMEZONE
END:VCALENDAR
