BEGIN:VCALENDAR
VERSION:2.0
PRODID:-//Plone.org//NONSGML plone.app.event//EN
X-WR-TIMEZONE:Europe/Rome
BEGIN:VEVENT
SUMMARY:Quantum walk
DTSTART;TZID=Europe/Rome;VALUE=DATE-TIME:20230421T143000
DTEND;TZID=Europe/Rome;VALUE=DATE-TIME:20230421T163000
DTSTAMP;VALUE=DATE-TIME:20260422T145322Z
UID:39cea28d234b4878a385d1adf40a2d21@physics-astronomy.unibo.it
CREATED;VALUE=DATE-TIME:20230404T133041Z
DESCRIPTION:An itinerary in the quantum world\, among experiments and art 
 installations.
LAST-MODIFIED;VALUE=DATE-TIME:20230413T193005Z
URL:https://physics-astronomy.unibo.it/en/events/quantum-walk
END:VEVENT
BEGIN:VTIMEZONE
TZID:Europe/Rome
X-LIC-LOCATION:Europe/Rome
BEGIN:DAYLIGHT
DTSTART;VALUE=DATE-TIME:20230326T030000
TZNAME:CEST
TZOFFSETFROM:+0100
TZOFFSETTO:+0200
END:DAYLIGHT
END:VTIMEZONE
END:VCALENDAR
