BEGIN:VCALENDAR
VERSION:2.0
PRODID:-//Plone.org//NONSGML plone.app.event//EN
X-WR-TIMEZONE:Europe/Rome
BEGIN:VEVENT
SUMMARY:Let's play with science
DTSTART;TZID=Europe/Rome;VALUE=DATE-TIME:20240705T170000
DTEND;TZID=Europe/Rome;VALUE=DATE-TIME:20240705T183000
DTSTAMP;VALUE=DATE-TIME:20260422T134304Z
UID:5a6b70d33a544537907078aed2103ea4@physics-astronomy.unibo.it
CREATED;VALUE=DATE-TIME:20240701T065910Z
DESCRIPTION:Discover the invisible particles and the forces that govern th
 e universe.
LAST-MODIFIED;VALUE=DATE-TIME:20240701T133344Z
URL:https://physics-astronomy.unibo.it/en/events/let-s-play-with-science
END:VEVENT
BEGIN:VTIMEZONE
TZID:Europe/Rome
X-LIC-LOCATION:Europe/Rome
BEGIN:DAYLIGHT
DTSTART;VALUE=DATE-TIME:20240331T030000
TZNAME:CEST
TZOFFSETFROM:+0100
TZOFFSETTO:+0200
END:DAYLIGHT
END:VTIMEZONE
END:VCALENDAR
