BEGIN:VCALENDAR
VERSION:2.0
PRODID:-//Plone.org//NONSGML plone.app.event//EN
X-WR-TIMEZONE:Europe/Rome
BEGIN:VEVENT
SUMMARY:HPQC Master's Open Day
DTSTART;TZID=Europe/Rome;VALUE=DATE-TIME:20241024T170000
DTEND;TZID=Europe/Rome;VALUE=DATE-TIME:20241024T183000
DTSTAMP;VALUE=DATE-TIME:20260423T153110Z
UID:c167e4669cd2404f9a0b192de42d29b0@physics-astronomy.unibo.it
CREATED;VALUE=DATE-TIME:20240916T062357Z
DESCRIPTION:High-Performance and Quantum Computing
LAST-MODIFIED;VALUE=DATE-TIME:20241002T094722Z
URL:https://physics-astronomy.unibo.it/en/events/hpqc-master-s-open-day
END:VEVENT
BEGIN:VTIMEZONE
TZID:Europe/Rome
X-LIC-LOCATION:Europe/Rome
BEGIN:DAYLIGHT
DTSTART;VALUE=DATE-TIME:20240331T030000
TZNAME:CEST
TZOFFSETFROM:+0100
TZOFFSETTO:+0200
END:DAYLIGHT
END:VTIMEZONE
END:VCALENDAR
