BEGIN:VCALENDAR
VERSION:2.0
PRODID:-//Plone.org//NONSGML plone.app.event//EN
X-WR-TIMEZONE:Europe/Rome
BEGIN:VEVENT
SUMMARY:Galaxies in a supercomputer
DTSTART;TZID=Europe/Rome;VALUE=DATE-TIME:20231109T160000
DTEND;TZID=Europe/Rome;VALUE=DATE-TIME:20231109T173000
DTSTAMP;VALUE=DATE-TIME:20260420T191533Z
UID:58aca94e00524bdfb31f24e072409fea@physics-astronomy.unibo.it
CREATED;VALUE=DATE-TIME:20231027T100146Z
DESCRIPTION:How numerical simulations help us understand the evolution of 
 the Universe
LAST-MODIFIED;VALUE=DATE-TIME:20231027T100615Z
URL:https://physics-astronomy.unibo.it/en/events/galaxies-in-a-supercomput
 er
END:VEVENT
BEGIN:VTIMEZONE
TZID:Europe/Rome
X-LIC-LOCATION:Europe/Rome
BEGIN:STANDARD
DTSTART;VALUE=DATE-TIME:20231029T020000
TZNAME:CET
TZOFFSETFROM:+0200
TZOFFSETTO:+0100
END:STANDARD
END:VTIMEZONE
END:VCALENDAR
