BEGIN:VCALENDAR
VERSION:2.0
PRODID:-//Plone.org//NONSGML plone.app.event//EN
X-WR-TIMEZONE:Europe/Rome
BEGIN:VEVENT
SUMMARY:Documenting the Earth’s Emission Spectrum with PREFIRE
DTSTART;TZID=Europe/Rome;VALUE=DATE-TIME:20230525T161500
DTEND;TZID=Europe/Rome;VALUE=DATE-TIME:20230525T173000
DTSTAMP;VALUE=DATE-TIME:20260419T173358Z
UID:bba81d042a8341999c14a23cce554503@physics-astronomy.unibo.it
CREATED;VALUE=DATE-TIME:20230517T151530Z
DESCRIPTION:Models and observations unequivocally confirm that the climate
  is warming. Still\, future projections of the associated impacts remain u
 ncertain.
LAST-MODIFIED;VALUE=DATE-TIME:20230517T153213Z
URL:https://physics-astronomy.unibo.it/en/events/documenting-the-earth-s-e
 mission-spectrum-with-prefire
END:VEVENT
BEGIN:VTIMEZONE
TZID:Europe/Rome
X-LIC-LOCATION:Europe/Rome
BEGIN:DAYLIGHT
DTSTART;VALUE=DATE-TIME:20230326T030000
TZNAME:CEST
TZOFFSETFROM:+0100
TZOFFSETTO:+0200
END:DAYLIGHT
END:VTIMEZONE
END:VCALENDAR
