BEGIN:VCALENDAR
VERSION:2.0
PRODID:-//Plone.org//NONSGML plone.app.event//EN
X-WR-TIMEZONE:Europe/Rome
BEGIN:VEVENT
SUMMARY:Continuous Integration and Testing with Docker
DTSTART;TZID=Europe/Rome;VALUE=DATE-TIME:20150220T110000
DTEND;TZID=Europe/Rome;VALUE=DATE-TIME:20150220T123000
DTSTAMP;VALUE=DATE-TIME:20260419T174346Z
UID:bfa9f2053a7f488fa1080588892ca2a4@physics-astronomy.unibo.it
CREATED;VALUE=DATE-TIME:20150216T132524Z
DESCRIPTION:by Daniele Andreotti
LAST-MODIFIED;VALUE=DATE-TIME:20150216T132532Z
URL:https://physics-astronomy.unibo.it/en/events/continuous-integration-an
 d-testing-with-docker
END:VEVENT
BEGIN:VTIMEZONE
TZID:Europe/Rome
X-LIC-LOCATION:Europe/Rome
BEGIN:STANDARD
DTSTART;VALUE=DATE-TIME:20141026T020000
TZNAME:CET
TZOFFSETFROM:+0200
TZOFFSETTO:+0100
END:STANDARD
END:VTIMEZONE
END:VCALENDAR
