BEGIN:VCALENDAR
VERSION:2.0
PRODID:-//Plone.org//NONSGML plone.app.event//EN
X-WR-TIMEZONE:Europe/Rome
BEGIN:VEVENT
SUMMARY:Buchi Neri: The Most Powerful and Efficient Engines of the Univers
 e
DTSTART;TZID=Europe/Rome;VALUE=DATE-TIME:20150226T110000
DTEND;TZID=Europe/Rome;VALUE=DATE-TIME:20150226T123000
DTSTAMP;VALUE=DATE-TIME:20260419T174827Z
UID:148d917507f242c19b633c114e7254ec@physics-astronomy.unibo.it
CREATED;VALUE=DATE-TIME:20150220T121350Z
DESCRIPTION:by Dott. Rodrigo Nemmen (Universiade de Sao Paulo)
LAST-MODIFIED;VALUE=DATE-TIME:20150220T121400Z
URL:https://physics-astronomy.unibo.it/en/events/buchi-neri-the-most-power
 ful-and-efficient-engines-of-the-universe
END:VEVENT
BEGIN:VTIMEZONE
TZID:Europe/Rome
X-LIC-LOCATION:Europe/Rome
BEGIN:STANDARD
DTSTART;VALUE=DATE-TIME:20141026T020000
TZNAME:CET
TZOFFSETFROM:+0200
TZOFFSETTO:+0100
END:STANDARD
END:VTIMEZONE
END:VCALENDAR
