BEGIN:VCALENDAR
VERSION:2.0
PRODID:-//Plone.org//NONSGML plone.app.event//EN
X-WR-TIMEZONE:Europe/Rome
BEGIN:VEVENT
SUMMARY:Annual seminars of the PhD students (XXIX Cycle) (III part)
DTSTART;TZID=Europe/Rome;VALUE=DATE-TIME:20150210T140000
DTEND;TZID=Europe/Rome;VALUE=DATE-TIME:20150210T153000
DTSTAMP;VALUE=DATE-TIME:20260419T194044Z
UID:791496f35c5b4e37ad245f8203548c7f@physics-astronomy.unibo.it
CREATED;VALUE=DATE-TIME:20150116T121549Z
LAST-MODIFIED;VALUE=DATE-TIME:20150116T121559Z
URL:https://physics-astronomy.unibo.it/en/events/annual-seminars-of-the-ph
 d-students-xxix-cycle-iii-part
END:VEVENT
BEGIN:VTIMEZONE
TZID:Europe/Rome
X-LIC-LOCATION:Europe/Rome
BEGIN:STANDARD
DTSTART;VALUE=DATE-TIME:20141026T020000
TZNAME:CET
TZOFFSETFROM:+0200
TZOFFSETTO:+0100
END:STANDARD
END:VTIMEZONE
END:VCALENDAR
